BEGIN:VCALENDAR
VERSION:2.0
PRODID:-//Business Over Breakfast - ECPv4.8.1//NONSGML v1.0//EN
CALSCALE:GREGORIAN
METHOD:PUBLISH
X-WR-CALNAME:Business Over Breakfast
X-ORIGINAL-URL:http://businessoverbreakfast.com.au
X-WR-CALDESC:Events for Business Over Breakfast
BEGIN:VEVENT
DTSTART;TZID=Australia/Hobart:20180718T070000
DTEND;TZID=Australia/Hobart:20180718T083000
DTSTAMP:20190301T044624
CREATED:20180611T053737Z
LAST-MODIFIED:20180611T053737Z
UID:1276-1531897200-1531902600@businessoverbreakfast.com.au
SUMMARY:Mike Calder (Mike Calder Photography) 10 Minute Presentation
DESCRIPTION:Mike Calder will be giving a 10 minute presentation on his business during the meeting \n
URL:http://businessoverbreakfast.com.au/event/mike-calder-mike-calder-photography-10-minute-presentation/
LOCATION:Salamanca Inn\, 10 Gladstone Street\, Battery Point\, Tasmania\, 7004\, Australia
CATEGORIES:10 Minute Presentation
END:VEVENT
END:VCALENDAR